{"text_format":"3","workbook":"xlsx","n_sheets":4,"sheets":["Заявка","года-дист-группы","Как заполнять","для_секретаря"],"not_rendered":{"macros":1,"defined_names":3,"comments":1},"read":"whole","date_system":"1900"}

{"sheet":"Заявка","index":0,"n_rows":47,"n_cols":8,"rows_kept":47,"merged":[[0,0,0,7],[0,9,1,9],[1,0,1,7],[2,0,2,7],[3,1,3,7],[5,2,5,3],[5,5,6,7],[6,2,6,3],[8,0,8,4],[8,5,9,7],[9,0,9,4]]}
["Лыжная гонка \"Лыжня зовет\""]
["1-й этап,     06.02.2021,       г.Всеволожск"]
["заявка на участие от команды:"]
[]
[]
[null,"представитель","Иванов",null,null,"общие примечания:"]
[null,"контакт. телефон",123456789]
[]
["Заполненную заявку надо сохранить и отправить на :"]
["(последний день отправки - 4 февраля, четверг)"]
[]
["№ п/п","Фамилия","Имя","Год рождения","Пол","Примечания","Группа по году и полу","Дистанция"]
[1,"Васин (пример)","Василий",2005,"М",null,{"$f":"IF(ISBLANK(E13),\"\",IF(E13=\"М\",VLOOKUP(D13,'года-дист-группы'!A:C,3,FALSE),IF(E13=\"Ж\",VLOOKUP(D13,'года-дист-группы'!A:E,5,FALSE),IF(E13=\"open2\",\"open2\",\"\"))))","v":"М15-17"},{"$f":"IF(ISBLANK(E13),\"\",IF(E13=\"М\",VLOOKUP(D13,'года-дист-группы'!A:D,4,FALSE),IF(E13=\"Ж\",VLOOKUP(D13,'года-дист-группы'!A:F,6,FALSE),IF(E13=\"open2\",\"2 км\",\"\"))))","v":"3,5 км"}]
[2,"Васина (пример)","Елена",1970,"Ж",null,{"$f":"IF(ISBLANK(E14),\"\",IF(E14=\"М\",VLOOKUP(D14,'года-дист-группы'!A:C,3,FALSE),IF(E14=\"Ж\",VLOOKUP(D14,'года-дист-группы'!A:E,5,FALSE),IF(E14=\"open2\",\"open2\",\"\"))))","v":"Ж50"},{"$f":"IF(ISBLANK(E14),\"\",IF(E14=\"М\",VLOOKUP(D14,'года-дист-группы'!A:D,4,FALSE),IF(E14=\"Ж\",VLOOKUP(D14,'года-дист-группы'!A:F,6,FALSE),IF(E14=\"open2\",\"2 км\",\"\"))))","v":"2 км"}]
[3,"Васина (пример)","Варвара",2010,"Ж",null,{"$f":"IF(ISBLANK(E15),\"\",IF(E15=\"М\",VLOOKUP(D15,'года-дист-группы'!A:C,3,FALSE),IF(E15=\"Ж\",VLOOKUP(D15,'года-дист-группы'!A:E,5,FALSE),IF(E15=\"open2\",\"open2\",\"\"))))","v":"Ж10-12"},{"$f":"IF(ISBLANK(E15),\"\",IF(E15=\"М\",VLOOKUP(D15,'года-дист-группы'!A:D,4,FALSE),IF(E15=\"Ж\",VLOOKUP(D15,'года-дист-группы'!A:F,6,FALSE),IF(E15=\"open2\",\"2 км\",\"\"))))","v":"2 км"}]
[4,{"$nulls":5},{"$f":"IF(ISBLANK(E16),\"\",IF(E16=\"М\",VLOOKUP(D16,'года-дист-группы'!A:C,3,FALSE),IF(E16=\"Ж\",VLOOKUP(D16,'года-дист-группы'!A:E,5,FALSE),IF(E16=\"open2\",\"open2\",\"\"))))","v":""},{"$f":"IF(ISBLANK(E16),\"\",IF(E16=\"М\",VLOOKUP(D16,'года-дист-группы'!A:D,4,FALSE),IF(E16=\"Ж\",VLOOKUP(D16,'года-дист-группы'!A:F,6,FALSE),IF(E16=\"open2\",\"2 км\",\"\"))))","v":""}]
[5,{"$nulls":5},{"$f":"IF(ISBLANK(E17),\"\",IF(E17=\"М\",VLOOKUP(D17,'года-дист-группы'!A:C,3,FALSE),IF(E17=\"Ж\",VLOOKUP(D17,'года-дист-группы'!A:E,5,FALSE),IF(E17=\"open2\",\"open2\",\"\"))))","v":""},{"$f":"IF(ISBLANK(E17),\"\",IF(E17=\"М\",VLOOKUP(D17,'года-дист-группы'!A:D,4,FALSE),IF(E17=\"Ж\",VLOOKUP(D17,'года-дист-группы'!A:F,6,FALSE),IF(E17=\"open2\",\"2 км\",\"\"))))","v":""}]
[6,{"$nulls":5},{"$f":"IF(ISBLANK(E18),\"\",IF(E18=\"М\",VLOOKUP(D18,'года-дист-группы'!A:C,3,FALSE),IF(E18=\"Ж\",VLOOKUP(D18,'года-дист-группы'!A:E,5,FALSE),IF(E18=\"open2\",\"open2\",\"\"))))","v":""},{"$f":"IF(ISBLANK(E18),\"\",IF(E18=\"М\",VLOOKUP(D18,'года-дист-группы'!A:D,4,FALSE),IF(E18=\"Ж\",VLOOKUP(D18,'года-дист-группы'!A:F,6,FALSE),IF(E18=\"open2\",\"2 км\",\"\"))))","v":""}]
[7,{"$nulls":5},{"$f":"IF(ISBLANK(E19),\"\",IF(E19=\"М\",VLOOKUP(D19,'года-дист-группы'!A:C,3,FALSE),IF(E19=\"Ж\",VLOOKUP(D19,'года-дист-группы'!A:E,5,FALSE),IF(E19=\"open2\",\"open2\",\"\"))))","v":""},{"$f":"IF(ISBLANK(E19),\"\",IF(E19=\"М\",VLOOKUP(D19,'года-дист-группы'!A:D,4,FALSE),IF(E19=\"Ж\",VLOOKUP(D19,'года-дист-группы'!A:F,6,FALSE),IF(E19=\"open2\",\"2 км\",\"\"))))","v":""}]
[8,{"$nulls":5},{"$f":"IF(ISBLANK(E20),\"\",IF(E20=\"М\",VLOOKUP(D20,'года-дист-группы'!A:C,3,FALSE),IF(E20=\"Ж\",VLOOKUP(D20,'года-дист-группы'!A:E,5,FALSE),IF(E20=\"open2\",\"open2\",\"\"))))","v":""},{"$f":"IF(ISBLANK(E20),\"\",IF(E20=\"М\",VLOOKUP(D20,'года-дист-группы'!A:D,4,FALSE),IF(E20=\"Ж\",VLOOKUP(D20,'года-дист-группы'!A:F,6,FALSE),IF(E20=\"open2\",\"2 км\",\"\"))))","v":""}]
[9,{"$nulls":5},{"$f":"IF(ISBLANK(E21),\"\",IF(E21=\"М\",VLOOKUP(D21,'года-дист-группы'!A:C,3,FALSE),IF(E21=\"Ж\",VLOOKUP(D21,'года-дист-группы'!A:E,5,FALSE),IF(E21=\"open2\",\"open2\",\"\"))))","v":""},{"$f":"IF(ISBLANK(E21),\"\",IF(E21=\"М\",VLOOKUP(D21,'года-дист-группы'!A:D,4,FALSE),IF(E21=\"Ж\",VLOOKUP(D21,'года-дист-группы'!A:F,6,FALSE),IF(E21=\"open2\",\"2 км\",\"\"))))","v":""}]
[10,{"$nulls":5},{"$f":"IF(ISBLANK(E22),\"\",IF(E22=\"М\",VLOOKUP(D22,'года-дист-группы'!A:C,3,FALSE),IF(E22=\"Ж\",VLOOKUP(D22,'года-дист-группы'!A:E,5,FALSE),IF(E22=\"open2\",\"open2\",\"\"))))","v":""},{"$f":"IF(ISBLANK(E22),\"\",IF(E22=\"М\",VLOOKUP(D22,'года-дист-группы'!A:D,4,FALSE),IF(E22=\"Ж\",VLOOKUP(D22,'года-дист-группы'!A:F,6,FALSE),IF(E22=\"open2\",\"2 км\",\"\"))))","v":""}]
[11,{"$nulls":5},{"$f":"IF(ISBLANK(E23),\"\",IF(E23=\"М\",VLOOKUP(D23,'года-дист-группы'!A:C,3,FALSE),IF(E23=\"Ж\",VLOOKUP(D23,'года-дист-группы'!A:E,5,FALSE),IF(E23=\"open2\",\"open2\",\"\"))))","v":""},{"$f":"IF(ISBLANK(E23),\"\",IF(E23=\"М\",VLOOKUP(D23,'года-дист-группы'!A:D,4,FALSE),IF(E23=\"Ж\",VLOOKUP(D23,'года-дист-группы'!A:F,6,FALSE),IF(E23=\"open2\",\"2 км\",\"\"))))","v":""}]
[12,{"$nulls":5},{"$f":"IF(ISBLANK(E24),\"\",IF(E24=\"М\",VLOOKUP(D24,'года-дист-группы'!A:C,3,FALSE),IF(E24=\"Ж\",VLOOKUP(D24,'года-дист-группы'!A:E,5,FALSE),IF(E24=\"open2\",\"open2\",\"\"))))","v":""},{"$f":"IF(ISBLANK(E24),\"\",IF(E24=\"М\",VLOOKUP(D24,'года-дист-группы'!A:D,4,FALSE),IF(E24=\"Ж\",VLOOKUP(D24,'года-дист-группы'!A:F,6,FALSE),IF(E24=\"open2\",\"2 км\",\"\"))))","v":""}]
[13,{"$nulls":5},{"$f":"IF(ISBLANK(E25),\"\",IF(E25=\"М\",VLOOKUP(D25,'года-дист-группы'!A:C,3,FALSE),IF(E25=\"Ж\",VLOOKUP(D25,'года-дист-группы'!A:E,5,FALSE),IF(E25=\"open2\",\"open2\",\"\"))))","v":""},{"$f":"IF(ISBLANK(E25),\"\",IF(E25=\"М\",VLOOKUP(D25,'года-дист-группы'!A:D,4,FALSE),IF(E25=\"Ж\",VLOOKUP(D25,'года-дист-группы'!A:F,6,FALSE),IF(E25=\"open2\",\"2 км\",\"\"))))","v":""}]
[14,{"$nulls":5},{"$f":"IF(ISBLANK(E26),\"\",IF(E26=\"М\",VLOOKUP(D26,'года-дист-группы'!A:C,3,FALSE),IF(E26=\"Ж\",VLOOKUP(D26,'года-дист-группы'!A:E,5,FALSE),IF(E26=\"open2\",\"open2\",\"\"))))","v":""},{"$f":"IF(ISBLANK(E26),\"\",IF(E26=\"М\",VLOOKUP(D26,'года-дист-группы'!A:D,4,FALSE),IF(E26=\"Ж\",VLOOKUP(D26,'года-дист-группы'!A:F,6,FALSE),IF(E26=\"open2\",\"2 км\",\"\"))))","v":""}]
[15,{"$nulls":5},{"$f":"IF(ISBLANK(E27),\"\",IF(E27=\"М\",VLOOKUP(D27,'года-дист-группы'!A:C,3,FALSE),IF(E27=\"Ж\",VLOOKUP(D27,'года-дист-группы'!A:E,5,FALSE),IF(E27=\"open2\",\"open2\",\"\"))))","v":""},{"$f":"IF(ISBLANK(E27),\"\",IF(E27=\"М\",VLOOKUP(D27,'года-дист-группы'!A:D,4,FALSE),IF(E27=\"Ж\",VLOOKUP(D27,'года-дист-группы'!A:F,6,FALSE),IF(E27=\"open2\",\"2 км\",\"\"))))","v":""}]
[16,{"$nulls":5},{"$f":"IF(ISBLANK(E28),\"\",IF(E28=\"М\",VLOOKUP(D28,'года-дист-группы'!A:C,3,FALSE),IF(E28=\"Ж\",VLOOKUP(D28,'года-дист-группы'!A:E,5,FALSE),IF(E28=\"open2\",\"open2\",\"\"))))","v":""},{"$f":"IF(ISBLANK(E28),\"\",IF(E28=\"М\",VLOOKUP(D28,'года-дист-группы'!A:D,4,FALSE),IF(E28=\"Ж\",VLOOKUP(D28,'года-дист-группы'!A:F,6,FALSE),IF(E28=\"open2\",\"2 км\",\"\"))))","v":""}]
[17,{"$nulls":5},{"$f":"IF(ISBLANK(E29),\"\",IF(E29=\"М\",VLOOKUP(D29,'года-дист-группы'!A:C,3,FALSE),IF(E29=\"Ж\",VLOOKUP(D29,'года-дист-группы'!A:E,5,FALSE),IF(E29=\"open2\",\"open2\",\"\"))))","v":""},{"$f":"IF(ISBLANK(E29),\"\",IF(E29=\"М\",VLOOKUP(D29,'года-дист-группы'!A:D,4,FALSE),IF(E29=\"Ж\",VLOOKUP(D29,'года-дист-группы'!A:F,6,FALSE),IF(E29=\"open2\",\"2 км\",\"\"))))","v":""}]
[18,{"$nulls":5},{"$f":"IF(ISBLANK(E30),\"\",IF(E30=\"М\",VLOOKUP(D30,'года-дист-группы'!A:C,3,FALSE),IF(E30=\"Ж\",VLOOKUP(D30,'года-дист-группы'!A:E,5,FALSE),IF(E30=\"open2\",\"open2\",\"\"))))","v":""},{"$f":"IF(ISBLANK(E30),\"\",IF(E30=\"М\",VLOOKUP(D30,'года-дист-группы'!A:D,4,FALSE),IF(E30=\"Ж\",VLOOKUP(D30,'года-дист-группы'!A:F,6,FALSE),IF(E30=\"open2\",\"2 км\",\"\"))))","v":""}]
[19,{"$nulls":5},{"$f":"IF(ISBLANK(E31),\"\",IF(E31=\"М\",VLOOKUP(D31,'года-дист-группы'!A:C,3,FALSE),IF(E31=\"Ж\",VLOOKUP(D31,'года-дист-группы'!A:E,5,FALSE),IF(E31=\"open2\",\"open2\",\"\"))))","v":""},{"$f":"IF(ISBLANK(E31),\"\",IF(E31=\"М\",VLOOKUP(D31,'года-дист-группы'!A:D,4,FALSE),IF(E31=\"Ж\",VLOOKUP(D31,'года-дист-группы'!A:F,6,FALSE),IF(E31=\"open2\",\"2 км\",\"\"))))","v":""}]
[20,{"$nulls":5},{"$f":"IF(ISBLANK(E32),\"\",IF(E32=\"М\",VLOOKUP(D32,'года-дист-группы'!A:C,3,FALSE),IF(E32=\"Ж\",VLOOKUP(D32,'года-дист-группы'!A:E,5,FALSE),IF(E32=\"open2\",\"open2\",\"\"))))","v":""},{"$f":"IF(ISBLANK(E32),\"\",IF(E32=\"М\",VLOOKUP(D32,'года-дист-группы'!A:D,4,FALSE),IF(E32=\"Ж\",VLOOKUP(D32,'года-дист-группы'!A:F,6,FALSE),IF(E32=\"open2\",\"2 км\",\"\"))))","v":""}]
[21,{"$nulls":5},{"$f":"IF(ISBLANK(E33),\"\",IF(E33=\"М\",VLOOKUP(D33,'года-дист-группы'!A:C,3,FALSE),IF(E33=\"Ж\",VLOOKUP(D33,'года-дист-группы'!A:E,5,FALSE),IF(E33=\"open2\",\"open2\",\"\"))))","v":""},{"$f":"IF(ISBLANK(E33),\"\",IF(E33=\"М\",VLOOKUP(D33,'года-дист-группы'!A:D,4,FALSE),IF(E33=\"Ж\",VLOOKUP(D33,'года-дист-группы'!A:F,6,FALSE),IF(E33=\"open2\",\"2 км\",\"\"))))","v":""}]
[22,{"$nulls":5},{"$f":"IF(ISBLANK(E34),\"\",IF(E34=\"М\",VLOOKUP(D34,'года-дист-группы'!A:C,3,FALSE),IF(E34=\"Ж\",VLOOKUP(D34,'года-дист-группы'!A:E,5,FALSE),IF(E34=\"open2\",\"open2\",\"\"))))","v":""},{"$f":"IF(ISBLANK(E34),\"\",IF(E34=\"М\",VLOOKUP(D34,'года-дист-группы'!A:D,4,FALSE),IF(E34=\"Ж\",VLOOKUP(D34,'года-дист-группы'!A:F,6,FALSE),IF(E34=\"open2\",\"2 км\",\"\"))))","v":""}]
[23,{"$nulls":5},{"$f":"IF(ISBLANK(E35),\"\",IF(E35=\"М\",VLOOKUP(D35,'года-дист-группы'!A:C,3,FALSE),IF(E35=\"Ж\",VLOOKUP(D35,'года-дист-группы'!A:E,5,FALSE),IF(E35=\"open2\",\"open2\",\"\"))))","v":""},{"$f":"IF(ISBLANK(E35),\"\",IF(E35=\"М\",VLOOKUP(D35,'года-дист-группы'!A:D,4,FALSE),IF(E35=\"Ж\",VLOOKUP(D35,'года-дист-группы'!A:F,6,FALSE),IF(E35=\"open2\",\"2 км\",\"\"))))","v":""}]
[24,{"$nulls":5},{"$f":"IF(ISBLANK(E36),\"\",IF(E36=\"М\",VLOOKUP(D36,'года-дист-группы'!A:C,3,FALSE),IF(E36=\"Ж\",VLOOKUP(D36,'года-дист-группы'!A:E,5,FALSE),IF(E36=\"open2\",\"open2\",\"\"))))","v":""},{"$f":"IF(ISBLANK(E36),\"\",IF(E36=\"М\",VLOOKUP(D36,'года-дист-группы'!A:D,4,FALSE),IF(E36=\"Ж\",VLOOKUP(D36,'года-дист-группы'!A:F,6,FALSE),IF(E36=\"open2\",\"2 км\",\"\"))))","v":""}]
[25,{"$nulls":5},{"$f":"IF(ISBLANK(E37),\"\",IF(E37=\"М\",VLOOKUP(D37,'года-дист-группы'!A:C,3,FALSE),IF(E37=\"Ж\",VLOOKUP(D37,'года-дист-группы'!A:E,5,FALSE),IF(E37=\"open2\",\"open2\",\"\"))))","v":""},{"$f":"IF(ISBLANK(E37),\"\",IF(E37=\"М\",VLOOKUP(D37,'года-дист-группы'!A:D,4,FALSE),IF(E37=\"Ж\",VLOOKUP(D37,'года-дист-группы'!A:F,6,FALSE),IF(E37=\"open2\",\"2 км\",\"\"))))","v":""}]
[26,{"$nulls":5},{"$f":"IF(ISBLANK(E38),\"\",IF(E38=\"М\",VLOOKUP(D38,'года-дист-группы'!A:C,3,FALSE),IF(E38=\"Ж\",VLOOKUP(D38,'года-дист-группы'!A:E,5,FALSE),IF(E38=\"open2\",\"open2\",\"\"))))","v":""},{"$f":"IF(ISBLANK(E38),\"\",IF(E38=\"М\",VLOOKUP(D38,'года-дист-группы'!A:D,4,FALSE),IF(E38=\"Ж\",VLOOKUP(D38,'года-дист-группы'!A:F,6,FALSE),IF(E38=\"open2\",\"2 км\",\"\"))))","v":""}]
[27,{"$nulls":5},{"$f":"IF(ISBLANK(E39),\"\",IF(E39=\"М\",VLOOKUP(D39,'года-дист-группы'!A:C,3,FALSE),IF(E39=\"Ж\",VLOOKUP(D39,'года-дист-группы'!A:E,5,FALSE),IF(E39=\"open2\",\"open2\",\"\"))))","v":""},{"$f":"IF(ISBLANK(E39),\"\",IF(E39=\"М\",VLOOKUP(D39,'года-дист-группы'!A:D,4,FALSE),IF(E39=\"Ж\",VLOOKUP(D39,'года-дист-группы'!A:F,6,FALSE),IF(E39=\"open2\",\"2 км\",\"\"))))","v":""}]
[28,{"$nulls":5},{"$f":"IF(ISBLANK(E40),\"\",IF(E40=\"М\",VLOOKUP(D40,'года-дист-группы'!A:C,3,FALSE),IF(E40=\"Ж\",VLOOKUP(D40,'года-дист-группы'!A:E,5,FALSE),IF(E40=\"open2\",\"open2\",\"\"))))","v":""},{"$f":"IF(ISBLANK(E40),\"\",IF(E40=\"М\",VLOOKUP(D40,'года-дист-группы'!A:D,4,FALSE),IF(E40=\"Ж\",VLOOKUP(D40,'года-дист-группы'!A:F,6,FALSE),IF(E40=\"open2\",\"2 км\",\"\"))))","v":""}]
[29,{"$nulls":5},{"$f":"IF(ISBLANK(E41),\"\",IF(E41=\"М\",VLOOKUP(D41,'года-дист-группы'!A:C,3,FALSE),IF(E41=\"Ж\",VLOOKUP(D41,'года-дист-группы'!A:E,5,FALSE),IF(E41=\"open2\",\"open2\",\"\"))))","v":""},{"$f":"IF(ISBLANK(E41),\"\",IF(E41=\"М\",VLOOKUP(D41,'года-дист-группы'!A:D,4,FALSE),IF(E41=\"Ж\",VLOOKUP(D41,'года-дист-группы'!A:F,6,FALSE),IF(E41=\"open2\",\"2 км\",\"\"))))","v":""}]
[30,{"$nulls":5},{"$f":"IF(ISBLANK(E42),\"\",IF(E42=\"М\",VLOOKUP(D42,'года-дист-группы'!A:C,3,FALSE),IF(E42=\"Ж\",VLOOKUP(D42,'года-дист-группы'!A:E,5,FALSE),IF(E42=\"open2\",\"open2\",\"\"))))","v":""},{"$f":"IF(ISBLANK(E42),\"\",IF(E42=\"М\",VLOOKUP(D42,'года-дист-группы'!A:D,4,FALSE),IF(E42=\"Ж\",VLOOKUP(D42,'года-дист-группы'!A:F,6,FALSE),IF(E42=\"open2\",\"2 км\",\"\"))))","v":""}]
[31,{"$nulls":5},{"$f":"IF(ISBLANK(E43),\"\",IF(E43=\"М\",VLOOKUP(D43,'года-дист-группы'!A:C,3,FALSE),IF(E43=\"Ж\",VLOOKUP(D43,'года-дист-группы'!A:E,5,FALSE),IF(E43=\"open2\",\"open2\",\"\"))))","v":""},{"$f":"IF(ISBLANK(E43),\"\",IF(E43=\"М\",VLOOKUP(D43,'года-дист-группы'!A:D,4,FALSE),IF(E43=\"Ж\",VLOOKUP(D43,'года-дист-группы'!A:F,6,FALSE),IF(E43=\"open2\",\"2 км\",\"\"))))","v":""}]
[32,{"$nulls":5},{"$f":"IF(ISBLANK(E44),\"\",IF(E44=\"М\",VLOOKUP(D44,'года-дист-группы'!A:C,3,FALSE),IF(E44=\"Ж\",VLOOKUP(D44,'года-дист-группы'!A:E,5,FALSE),IF(E44=\"open2\",\"open2\",\"\"))))","v":""},{"$f":"IF(ISBLANK(E44),\"\",IF(E44=\"М\",VLOOKUP(D44,'года-дист-группы'!A:D,4,FALSE),IF(E44=\"Ж\",VLOOKUP(D44,'года-дист-группы'!A:F,6,FALSE),IF(E44=\"open2\",\"2 км\",\"\"))))","v":""}]
[33,{"$nulls":5},{"$f":"IF(ISBLANK(E45),\"\",IF(E45=\"М\",VLOOKUP(D45,'года-дист-группы'!A:C,3,FALSE),IF(E45=\"Ж\",VLOOKUP(D45,'года-дист-группы'!A:E,5,FALSE),IF(E45=\"open2\",\"open2\",\"\"))))","v":""},{"$f":"IF(ISBLANK(E45),\"\",IF(E45=\"М\",VLOOKUP(D45,'года-дист-группы'!A:D,4,FALSE),IF(E45=\"Ж\",VLOOKUP(D45,'года-дист-группы'!A:F,6,FALSE),IF(E45=\"open2\",\"2 км\",\"\"))))","v":""}]
[34,{"$nulls":5},{"$f":"IF(ISBLANK(E46),\"\",IF(E46=\"М\",VLOOKUP(D46,'года-дист-группы'!A:C,3,FALSE),IF(E46=\"Ж\",VLOOKUP(D46,'года-дист-группы'!A:E,5,FALSE),IF(E46=\"open2\",\"open2\",\"\"))))","v":""},{"$f":"IF(ISBLANK(E46),\"\",IF(E46=\"М\",VLOOKUP(D46,'года-дист-группы'!A:D,4,FALSE),IF(E46=\"Ж\",VLOOKUP(D46,'года-дист-группы'!A:F,6,FALSE),IF(E46=\"open2\",\"2 км\",\"\"))))","v":""}]
[35,{"$nulls":5},{"$f":"IF(ISBLANK(E47),\"\",IF(E47=\"М\",VLOOKUP(D47,'года-дист-группы'!A:C,3,FALSE),IF(E47=\"Ж\",VLOOKUP(D47,'года-дист-группы'!A:E,5,FALSE),IF(E47=\"open2\",\"open2\",\"\"))))","v":""},{"$f":"IF(ISBLANK(E47),\"\",IF(E47=\"М\",VLOOKUP(D47,'года-дист-группы'!A:D,4,FALSE),IF(E47=\"Ж\",VLOOKUP(D47,'года-дист-группы'!A:F,6,FALSE),IF(E47=\"open2\",\"2 км\",\"\"))))","v":""}]

{"sheet":"года-дист-группы","index":1,"n_rows":91,"n_cols":6,"rows_kept":91,"merged":[[0,0,0,5],[1,2,1,3],[1,4,1,5]]}
["Соответствие года рождения, дистанции и группы на 2021 год"]
["год рождения","возраст","мужчины",null,"женщины"]
[2018,3,"М06-09","1 км","Ж06-09","1 км"]
[2017,4,"М06-09","1 км","Ж06-09","1 км"]
[2016,5,"М06-09","1 км","Ж06-09","1 км"]
[2015,6,"М06-09","1 км","Ж06-09","1 км"]
[2014,7,"М06-09","1 км","Ж06-09","1 км"]
[2013,8,"М06-09","1 км","Ж06-09","1 км"]
[2012,9,"М06-09","1 км","Ж06-09","1 км"]
[2011,10,"М10-12","2 км","Ж10-12","2 км"]
[2010,11,"М10-12","2 км","Ж10-12","2 км"]
[2009,12,"М10-12","2 км","Ж10-12","2 км"]
[2008,13,"М13-14","2 км","Ж13-14","2 км"]
[2007,14,"М13-14","2 км","Ж13-14","2 км"]
[2006,15,"М15-17","3,5 км","Ж15-17","3,5 км"]
[2005,16,"М15-17","3,5 км","Ж15-17","3,5 км"]
[2004,17,"М15-17","3,5 км","Ж15-17","3,5 км"]
[2003,18,"М18-39","3,5 км","Ж18-39","3,5 км"]
[2002,19,"М18-39","3,5 км","Ж18-39","3,5 км"]
[2001,20,"М18-39","3,5 км","Ж18-39","3,5 км"]
[2000,21,"М18-39","3,5 км","Ж18-39","3,5 км"]
[1999,22,"М18-39","3,5 км","Ж18-39","3,5 км"]
[1998,23,"М18-39","3,5 км","Ж18-39","3,5 км"]
[1997,24,"М18-39","3,5 км","Ж18-39","3,5 км"]
[1996,25,"М18-39","3,5 км","Ж18-39","3,5 км"]
[1995,26,"М18-39","3,5 км","Ж18-39","3,5 км"]
[1994,27,"М18-39","3,5 км","Ж18-39","3,5 км"]
[1993,28,"М18-39","3,5 км","Ж18-39","3,5 км"]
[1992,29,"М18-39","3,5 км","Ж18-39","3,5 км"]
[1991,30,"М18-39","3,5 км","Ж18-39","3,5 км"]
[1990,31,"М18-39","3,5 км","Ж18-39","3,5 км"]
[1989,32,"М18-39","3,5 км","Ж18-39","3,5 км"]
[1988,33,"М18-39","3,5 км","Ж18-39","3,5 км"]
[1987,34,"М18-39","3,5 км","Ж18-39","3,5 км"]
[1986,35,"М18-39","3,5 км","Ж18-39","3,5 км"]
[1985,36,"М18-39","3,5 км","Ж18-39","3,5 км"]
[1984,37,"М18-39","3,5 км","Ж18-39","3,5 км"]
[1983,38,"М18-39","3,5 км","Ж18-39","3,5 км"]
[1982,39,"М18-39","3,5 км","Ж18-39","3,5 км"]
[1981,40,"М40-59","3,5 км","Ж40-49","3,5 км"]
[1980,41,"М40-59","3,5 км","Ж40-49","3,5 км"]
[1979,42,"М40-59","3,5 км","Ж40-49","3,5 км"]
[1978,43,"М40-59","3,5 км","Ж40-49","3,5 км"]
[1977,44,"М40-59","3,5 км","Ж40-49","3,5 км"]
[1976,45,"М40-59","3,5 км","Ж40-49","3,5 км"]
[1975,46,"М40-59","3,5 км","Ж40-49","3,5 км"]
[1974,47,"М40-59","3,5 км","Ж40-49","3,5 км"]
[1973,48,"М40-59","3,5 км","Ж40-49","3,5 км"]
[1972,49,"М40-59","3,5 км","Ж40-49","3,5 км"]
[1971,50,"М40-59","3,5 км","Ж50","2 км"]
[1970,51,"М40-59","3,5 км","Ж50","2 км"]
[1969,52,"М40-59","3,5 км","Ж50","2 км"]
[1968,53,"М40-59","3,5 км","Ж50","2 км"]
[1967,54,"М40-59","3,5 км","Ж50","2 км"]
[1966,55,"М40-59","3,5 км","Ж50","2 км"]
[1965,56,"М40-59","3,5 км","Ж50","2 км"]
[1964,57,"М40-59","3,5 км","Ж50","2 км"]
[1963,58,"М40-59","3,5 км","Ж50","2 км"]
[1962,59,"М40-59","3,5 км","Ж50","2 км"]
[1961,60,"М60","2 км","Ж50","2 км"]
[1960,61,"М60","2 км","Ж50","2 км"]
[1959,62,"М60","2 км","Ж50","2 км"]
[1958,63,"М60","2 км","Ж50","2 км"]
[1957,64,"М60","2 км","Ж50","2 км"]
[1956,65,"М60","2 км","Ж50","2 км"]
[1955,66,"М60","2 км","Ж50","2 км"]
[1954,67,"М60","2 км","Ж50","2 км"]
[1953,68,"М60","2 км","Ж50","2 км"]
[1952,69,"М60","2 км","Ж50","2 км"]
[1951,70,"М60","2 км","Ж50","2 км"]
[1950,71,"М60","2 км","Ж50","2 км"]
[1949,72,"М60","2 км","Ж50","2 км"]
[1948,73,"М60","2 км","Ж50","2 км"]
[1947,74,"М60","2 км","Ж50","2 км"]
[1946,75,"М60","2 км","Ж50","2 км"]
[1945,76,"М60","2 км","Ж50","2 км"]
[1944,77,"М60","2 км","Ж50","2 км"]
[1943,78,"М60","2 км","Ж50","2 км"]
[1942,79,"М60","2 км","Ж50","2 км"]
[1941,80,"М60","2 км","Ж50","2 км"]
[1940,81,"М60","2 км","Ж50","2 км"]
[1939,82,"М60","2 км","Ж50","2 км"]
[1938,83,"М60","2 км","Ж50","2 км"]
[1937,84,"М60","2 км","Ж50","2 км"]
[1936,85,"М60","2 км","Ж50","2 км"]
[1935,86,"М60","2 км","Ж50","2 км"]
[1934,87,"М60","2 км","Ж50","2 км"]
[1933,88,"М60","2 км","Ж50","2 км"]
[1,"-","R-1,0km","1 км"]
[2,"-","R-2,0km","2 км"]
[3,"-","R-3,5km","3,5 км"]

{"sheet":"Как заполнять","index":2,"n_rows":33,"n_cols":2,"rows_kept":33}
["Заявочная форма в электронном виде предназначена для  оперативного"]
["приема заявок орг.комитетом и оперативной обратной связи"]
["с представителями команд."]
[]
["Правила заполнения !!!"]
[]
["Ячейки, в которые Вы можете вносить данные, отмечены белым фоном,"]
["остальное (шапка заявки и заголовки столбцов и рассчитываемые группы)"]
["для редактирования недоступно. Редактируется только лист \"Заявка\" !"]
["Данные, которые уже есть в заявке для примера, следует удалить, а на их место записать свои. "]
[]
[]
[1,"Сначала заполните название команды, представителя и его контактные данные"]
[]
[2,"Если есть общие примечания по заявке - внесите их в соответствующее поле"]
[]
[3,"Далее заполняйте данные об участниках (удалив данные, приведенные \"для примера\"):"]
["3а","Фамилия"]
["3б","Имя"]
["3в","Год рождения"]
["3г","Пол"]
[null,"По полу и году рождения будет определена возрастная группа"]
["3д","Элита - если участник 1994г.р. и  старше хочет участвовать в категории \"Элита\" - поставьте \"Э\""]
["3е","Примечания - если есть примечания по данному участнику."]
[null,"(например, он по каким-либо причинам хочет бежать не в своей возрастной группе)"]
[]
[null,"После заполнения данных по всем участникам команды не забудьте сохранить файл "]
[null,"и отправить его по электронной почте:"]
[null,"ivanov_mike@mail.ru"]
[]
[null,"P.S. Эта книга содержит лист \"для_секретаря\" и абсолютно безопасный макрос для копирования"]
[null,"содержимого заявки для импорта в общую базу соревнований (макрос выведен на кнопку)"]
[null,"Вы их можете игнорировать - т.к. они вам ничего не испортят, но ничем и не помогут."]

{"sheet":"для_секретаря","index":3,"n_rows":40,"n_cols":10,"rows_kept":40,"merged":[[0,1,0,6]]}
[null,"На этот лист не обращайте внимания, он для работы секретаря",{"$nulls":7},"М"]
[null,"Фамилия","Имя","Год","Пол / open2","Примечания","Команда","предст","тел","Ж"]
[1,{"$f":"IF(ISBLANK(Заявка!B13),\"\",Заявка!B13)","v":"Васин (пример)"},{"$f":"IF(ISBLANK(Заявка!C13),\"\",Заявка!C13)","v":"Василий"},{"$f":"IF(ISBLANK(Заявка!D13),\"\",Заявка!D13)","v":2005},{"$f":"IF(ISBLANK(Заявка!E13),\"\",Заявка!E13)","v":"М"},{"$f":"IF(ISBLANK(Заявка!F13),\"\",Заявка!F13)","v":""},{"$f":"IF(ISBLANK(Заявка!B13),\"\",Заявка!$B$4)","v":0},{"$f":"IF(ISBLANK(Заявка!B13),\"\",Заявка!$C$6)","v":"Иванов"},{"$f":"IF(ISBLANK(Заявка!B13),\"\",Заявка!$C$7)","v":123456789}]
[2,{"$f":"IF(ISBLANK(Заявка!B14),\"\",Заявка!B14)","v":"Васина (пример)"},{"$f":"IF(ISBLANK(Заявка!C14),\"\",Заявка!C14)","v":"Елена"},{"$f":"IF(ISBLANK(Заявка!D14),\"\",Заявка!D14)","v":1970},{"$f":"IF(ISBLANK(Заявка!E14),\"\",Заявка!E14)","v":"Ж"},{"$f":"IF(ISBLANK(Заявка!F14),\"\",Заявка!F14)","v":""},{"$f":"IF(ISBLANK(Заявка!B14),\"\",Заявка!$B$4)","v":0},{"$f":"IF(ISBLANK(Заявка!B14),\"\",Заявка!$C$6)","v":"Иванов"},{"$f":"IF(ISBLANK(Заявка!B14),\"\",Заявка!$C$7)","v":123456789}]
[3,{"$f":"IF(ISBLANK(Заявка!B15),\"\",Заявка!B15)","v":"Васина (пример)"},{"$f":"IF(ISBLANK(Заявка!C15),\"\",Заявка!C15)","v":"Варвара"},{"$f":"IF(ISBLANK(Заявка!D15),\"\",Заявка!D15)","v":2010},{"$f":"IF(ISBLANK(Заявка!E15),\"\",Заявка!E15)","v":"Ж"},{"$f":"IF(ISBLANK(Заявка!F15),\"\",Заявка!F15)","v":""},{"$f":"IF(ISBLANK(Заявка!B15),\"\",Заявка!$B$4)","v":0},{"$f":"IF(ISBLANK(Заявка!B15),\"\",Заявка!$C$6)","v":"Иванов"},{"$f":"IF(ISBLANK(Заявка!B15),\"\",Заявка!$C$7)","v":123456789}]
[4,{"$f":"IF(ISBLANK(Заявка!B16),\"\",Заявка!B16)","v":""},{"$f":"IF(ISBLANK(Заявка!C16),\"\",Заявка!C16)","v":""},{"$f":"IF(ISBLANK(Заявка!D16),\"\",Заявка!D16)","v":""},{"$f":"IF(ISBLANK(Заявка!E16),\"\",Заявка!E16)","v":""},{"$f":"IF(ISBLANK(Заявка!F16),\"\",Заявка!F16)","v":""},{"$f":"IF(ISBLANK(Заявка!B16),\"\",Заявка!$B$4)","v":""},{"$f":"IF(ISBLANK(Заявка!B16),\"\",Заявка!$C$6)","v":""},{"$f":"IF(ISBLANK(Заявка!B16),\"\",Заявка!$C$7)","v":""}]
[5,{"$f":"IF(ISBLANK(Заявка!B17),\"\",Заявка!B17)","v":""},{"$f":"IF(ISBLANK(Заявка!C17),\"\",Заявка!C17)","v":""},{"$f":"IF(ISBLANK(Заявка!D17),\"\",Заявка!D17)","v":""},{"$f":"IF(ISBLANK(Заявка!E17),\"\",Заявка!E17)","v":""},{"$f":"IF(ISBLANK(Заявка!F17),\"\",Заявка!F17)","v":""},{"$f":"IF(ISBLANK(Заявка!B17),\"\",Заявка!$B$4)","v":""},{"$f":"IF(ISBLANK(Заявка!B17),\"\",Заявка!$C$6)","v":""},{"$f":"IF(ISBLANK(Заявка!B17),\"\",Заявка!$C$7)","v":""}]
[6,{"$f":"IF(ISBLANK(Заявка!B18),\"\",Заявка!B18)","v":""},{"$f":"IF(ISBLANK(Заявка!C18),\"\",Заявка!C18)","v":""},{"$f":"IF(ISBLANK(Заявка!D18),\"\",Заявка!D18)","v":""},{"$f":"IF(ISBLANK(Заявка!E18),\"\",Заявка!E18)","v":""},{"$f":"IF(ISBLANK(Заявка!F18),\"\",Заявка!F18)","v":""},{"$f":"IF(ISBLANK(Заявка!B18),\"\",Заявка!$B$4)","v":""},{"$f":"IF(ISBLANK(Заявка!B18),\"\",Заявка!$C$6)","v":""},{"$f":"IF(ISBLANK(Заявка!B18),\"\",Заявка!$C$7)","v":""}]
[7,{"$f":"IF(ISBLANK(Заявка!B19),\"\",Заявка!B19)","v":""},{"$f":"IF(ISBLANK(Заявка!C19),\"\",Заявка!C19)","v":""},{"$f":"IF(ISBLANK(Заявка!D19),\"\",Заявка!D19)","v":""},{"$f":"IF(ISBLANK(Заявка!E19),\"\",Заявка!E19)","v":""},{"$f":"IF(ISBLANK(Заявка!F19),\"\",Заявка!F19)","v":""},{"$f":"IF(ISBLANK(Заявка!B19),\"\",Заявка!$B$4)","v":""},{"$f":"IF(ISBLANK(Заявка!B19),\"\",Заявка!$C$6)","v":""},{"$f":"IF(ISBLANK(Заявка!B19),\"\",Заявка!$C$7)","v":""}]
[8,{"$f":"IF(ISBLANK(Заявка!B20),\"\",Заявка!B20)","v":""},{"$f":"IF(ISBLANK(Заявка!C20),\"\",Заявка!C20)","v":""},{"$f":"IF(ISBLANK(Заявка!D20),\"\",Заявка!D20)","v":""},{"$f":"IF(ISBLANK(Заявка!E20),\"\",Заявка!E20)","v":""},{"$f":"IF(ISBLANK(Заявка!F20),\"\",Заявка!F20)","v":""},{"$f":"IF(ISBLANK(Заявка!B20),\"\",Заявка!$B$4)","v":""},{"$f":"IF(ISBLANK(Заявка!B20),\"\",Заявка!$C$6)","v":""},{"$f":"IF(ISBLANK(Заявка!B20),\"\",Заявка!$C$7)","v":""}]
[9,{"$f":"IF(ISBLANK(Заявка!B21),\"\",Заявка!B21)","v":""},{"$f":"IF(ISBLANK(Заявка!C21),\"\",Заявка!C21)","v":""},{"$f":"IF(ISBLANK(Заявка!D21),\"\",Заявка!D21)","v":""},{"$f":"IF(ISBLANK(Заявка!E21),\"\",Заявка!E21)","v":""},{"$f":"IF(ISBLANK(Заявка!F21),\"\",Заявка!F21)","v":""},{"$f":"IF(ISBLANK(Заявка!B21),\"\",Заявка!$B$4)","v":""},{"$f":"IF(ISBLANK(Заявка!B21),\"\",Заявка!$C$6)","v":""},{"$f":"IF(ISBLANK(Заявка!B21),\"\",Заявка!$C$7)","v":""}]
[10,{"$f":"IF(ISBLANK(Заявка!B22),\"\",Заявка!B22)","v":""},{"$f":"IF(ISBLANK(Заявка!C22),\"\",Заявка!C22)","v":""},{"$f":"IF(ISBLANK(Заявка!D22),\"\",Заявка!D22)","v":""},{"$f":"IF(ISBLANK(Заявка!E22),\"\",Заявка!E22)","v":""},{"$f":"IF(ISBLANK(Заявка!F22),\"\",Заявка!F22)","v":""},{"$f":"IF(ISBLANK(Заявка!B22),\"\",Заявка!$B$4)","v":""},{"$f":"IF(ISBLANK(Заявка!B22),\"\",Заявка!$C$6)","v":""},{"$f":"IF(ISBLANK(Заявка!B22),\"\",Заявка!$C$7)","v":""}]
[11,{"$f":"IF(ISBLANK(Заявка!B23),\"\",Заявка!B23)","v":""},{"$f":"IF(ISBLANK(Заявка!C23),\"\",Заявка!C23)","v":""},{"$f":"IF(ISBLANK(Заявка!D23),\"\",Заявка!D23)","v":""},{"$f":"IF(ISBLANK(Заявка!E23),\"\",Заявка!E23)","v":""},{"$f":"IF(ISBLANK(Заявка!F23),\"\",Заявка!F23)","v":""},{"$f":"IF(ISBLANK(Заявка!B23),\"\",Заявка!$B$4)","v":""},{"$f":"IF(ISBLANK(Заявка!B23),\"\",Заявка!$C$6)","v":""},{"$f":"IF(ISBLANK(Заявка!B23),\"\",Заявка!$C$7)","v":""}]
[12,{"$f":"IF(ISBLANK(Заявка!B24),\"\",Заявка!B24)","v":""},{"$f":"IF(ISBLANK(Заявка!C24),\"\",Заявка!C24)","v":""},{"$f":"IF(ISBLANK(Заявка!D24),\"\",Заявка!D24)","v":""},{"$f":"IF(ISBLANK(Заявка!E24),\"\",Заявка!E24)","v":""},{"$f":"IF(ISBLANK(Заявка!F24),\"\",Заявка!F24)","v":""},{"$f":"IF(ISBLANK(Заявка!B24),\"\",Заявка!$B$4)","v":""},{"$f":"IF(ISBLANK(Заявка!B24),\"\",Заявка!$C$6)","v":""},{"$f":"IF(ISBLANK(Заявка!B24),\"\",Заявка!$C$7)","v":""}]
[13,{"$f":"IF(ISBLANK(Заявка!B25),\"\",Заявка!B25)","v":""},{"$f":"IF(ISBLANK(Заявка!C25),\"\",Заявка!C25)","v":""},{"$f":"IF(ISBLANK(Заявка!D25),\"\",Заявка!D25)","v":""},{"$f":"IF(ISBLANK(Заявка!E25),\"\",Заявка!E25)","v":""},{"$f":"IF(ISBLANK(Заявка!F25),\"\",Заявка!F25)","v":""},{"$f":"IF(ISBLANK(Заявка!B25),\"\",Заявка!$B$4)","v":""},{"$f":"IF(ISBLANK(Заявка!B25),\"\",Заявка!$C$6)","v":""},{"$f":"IF(ISBLANK(Заявка!B25),\"\",Заявка!$C$7)","v":""}]
[14,{"$f":"IF(ISBLANK(Заявка!B26),\"\",Заявка!B26)","v":""},{"$f":"IF(ISBLANK(Заявка!C26),\"\",Заявка!C26)","v":""},{"$f":"IF(ISBLANK(Заявка!D26),\"\",Заявка!D26)","v":""},{"$f":"IF(ISBLANK(Заявка!E26),\"\",Заявка!E26)","v":""},{"$f":"IF(ISBLANK(Заявка!F26),\"\",Заявка!F26)","v":""},{"$f":"IF(ISBLANK(Заявка!B26),\"\",Заявка!$B$4)","v":""},{"$f":"IF(ISBLANK(Заявка!B26),\"\",Заявка!$C$6)","v":""},{"$f":"IF(ISBLANK(Заявка!B26),\"\",Заявка!$C$7)","v":""}]
[15,{"$f":"IF(ISBLANK(Заявка!B27),\"\",Заявка!B27)","v":""},{"$f":"IF(ISBLANK(Заявка!C27),\"\",Заявка!C27)","v":""},{"$f":"IF(ISBLANK(Заявка!D27),\"\",Заявка!D27)","v":""},{"$f":"IF(ISBLANK(Заявка!E27),\"\",Заявка!E27)","v":""},{"$f":"IF(ISBLANK(Заявка!F27),\"\",Заявка!F27)","v":""},{"$f":"IF(ISBLANK(Заявка!B27),\"\",Заявка!$B$4)","v":""},{"$f":"IF(ISBLANK(Заявка!B27),\"\",Заявка!$C$6)","v":""},{"$f":"IF(ISBLANK(Заявка!B27),\"\",Заявка!$C$7)","v":""}]
[16,{"$f":"IF(ISBLANK(Заявка!B28),\"\",Заявка!B28)","v":""},{"$f":"IF(ISBLANK(Заявка!C28),\"\",Заявка!C28)","v":""},{"$f":"IF(ISBLANK(Заявка!D28),\"\",Заявка!D28)","v":""},{"$f":"IF(ISBLANK(Заявка!E28),\"\",Заявка!E28)","v":""},{"$f":"IF(ISBLANK(Заявка!F28),\"\",Заявка!F28)","v":""},{"$f":"IF(ISBLANK(Заявка!B28),\"\",Заявка!$B$4)","v":""},{"$f":"IF(ISBLANK(Заявка!B28),\"\",Заявка!$C$6)","v":""},{"$f":"IF(ISBLANK(Заявка!B28),\"\",Заявка!$C$7)","v":""}]
[17,{"$f":"IF(ISBLANK(Заявка!B29),\"\",Заявка!B29)","v":""},{"$f":"IF(ISBLANK(Заявка!C29),\"\",Заявка!C29)","v":""},{"$f":"IF(ISBLANK(Заявка!D29),\"\",Заявка!D29)","v":""},{"$f":"IF(ISBLANK(Заявка!E29),\"\",Заявка!E29)","v":""},{"$f":"IF(ISBLANK(Заявка!F29),\"\",Заявка!F29)","v":""},{"$f":"IF(ISBLANK(Заявка!B29),\"\",Заявка!$B$4)","v":""},{"$f":"IF(ISBLANK(Заявка!B29),\"\",Заявка!$C$6)","v":""},{"$f":"IF(ISBLANK(Заявка!B29),\"\",Заявка!$C$7)","v":""}]
[18,{"$f":"IF(ISBLANK(Заявка!B30),\"\",Заявка!B30)","v":""},{"$f":"IF(ISBLANK(Заявка!C30),\"\",Заявка!C30)","v":""},{"$f":"IF(ISBLANK(Заявка!D30),\"\",Заявка!D30)","v":""},{"$f":"IF(ISBLANK(Заявка!E30),\"\",Заявка!E30)","v":""},{"$f":"IF(ISBLANK(Заявка!F30),\"\",Заявка!F30)","v":""},{"$f":"IF(ISBLANK(Заявка!B30),\"\",Заявка!$B$4)","v":""},{"$f":"IF(ISBLANK(Заявка!B30),\"\",Заявка!$C$6)","v":""},{"$f":"IF(ISBLANK(Заявка!B30),\"\",Заявка!$C$7)","v":""}]
[19,{"$f":"IF(ISBLANK(Заявка!B31),\"\",Заявка!B31)","v":""},{"$f":"IF(ISBLANK(Заявка!C31),\"\",Заявка!C31)","v":""},{"$f":"IF(ISBLANK(Заявка!D31),\"\",Заявка!D31)","v":""},{"$f":"IF(ISBLANK(Заявка!E31),\"\",Заявка!E31)","v":""},{"$f":"IF(ISBLANK(Заявка!F31),\"\",Заявка!F31)","v":""},{"$f":"IF(ISBLANK(Заявка!B31),\"\",Заявка!$B$4)","v":""},{"$f":"IF(ISBLANK(Заявка!B31),\"\",Заявка!$C$6)","v":""},{"$f":"IF(ISBLANK(Заявка!B31),\"\",Заявка!$C$7)","v":""}]
[20,{"$f":"IF(ISBLANK(Заявка!B32),\"\",Заявка!B32)","v":""},{"$f":"IF(ISBLANK(Заявка!C32),\"\",Заявка!C32)","v":""},{"$f":"IF(ISBLANK(Заявка!D32),\"\",Заявка!D32)","v":""},{"$f":"IF(ISBLANK(Заявка!E32),\"\",Заявка!E32)","v":""},{"$f":"IF(ISBLANK(Заявка!F32),\"\",Заявка!F32)","v":""},{"$f":"IF(ISBLANK(Заявка!B32),\"\",Заявка!$B$4)","v":""},{"$f":"IF(ISBLANK(Заявка!B32),\"\",Заявка!$C$6)","v":""},{"$f":"IF(ISBLANK(Заявка!B32),\"\",Заявка!$C$7)","v":""}]
[21,{"$f":"IF(ISBLANK(Заявка!B33),\"\",Заявка!B33)","v":""},{"$f":"IF(ISBLANK(Заявка!C33),\"\",Заявка!C33)","v":""},{"$f":"IF(ISBLANK(Заявка!D33),\"\",Заявка!D33)","v":""},{"$f":"IF(ISBLANK(Заявка!E33),\"\",Заявка!E33)","v":""},{"$f":"IF(ISBLANK(Заявка!F33),\"\",Заявка!F33)","v":""},{"$f":"IF(ISBLANK(Заявка!B33),\"\",Заявка!$B$4)","v":""},{"$f":"IF(ISBLANK(Заявка!B33),\"\",Заявка!$C$6)","v":""},{"$f":"IF(ISBLANK(Заявка!B33),\"\",Заявка!$C$7)","v":""}]
[22,{"$f":"IF(ISBLANK(Заявка!B34),\"\",Заявка!B34)","v":""},{"$f":"IF(ISBLANK(Заявка!C34),\"\",Заявка!C34)","v":""},{"$f":"IF(ISBLANK(Заявка!D34),\"\",Заявка!D34)","v":""},{"$f":"IF(ISBLANK(Заявка!E34),\"\",Заявка!E34)","v":""},{"$f":"IF(ISBLANK(Заявка!F34),\"\",Заявка!F34)","v":""},{"$f":"IF(ISBLANK(Заявка!B34),\"\",Заявка!$B$4)","v":""},{"$f":"IF(ISBLANK(Заявка!B34),\"\",Заявка!$C$6)","v":""},{"$f":"IF(ISBLANK(Заявка!B34),\"\",Заявка!$C$7)","v":""}]
[23,{"$f":"IF(ISBLANK(Заявка!B35),\"\",Заявка!B35)","v":""},{"$f":"IF(ISBLANK(Заявка!C35),\"\",Заявка!C35)","v":""},{"$f":"IF(ISBLANK(Заявка!D35),\"\",Заявка!D35)","v":""},{"$f":"IF(ISBLANK(Заявка!E35),\"\",Заявка!E35)","v":""},{"$f":"IF(ISBLANK(Заявка!F35),\"\",Заявка!F35)","v":""},{"$f":"IF(ISBLANK(Заявка!B35),\"\",Заявка!$B$4)","v":""},{"$f":"IF(ISBLANK(Заявка!B35),\"\",Заявка!$C$6)","v":""},{"$f":"IF(ISBLANK(Заявка!B35),\"\",Заявка!$C$7)","v":""}]
[24,{"$f":"IF(ISBLANK(Заявка!B36),\"\",Заявка!B36)","v":""},{"$f":"IF(ISBLANK(Заявка!C36),\"\",Заявка!C36)","v":""},{"$f":"IF(ISBLANK(Заявка!D36),\"\",Заявка!D36)","v":""},{"$f":"IF(ISBLANK(Заявка!E36),\"\",Заявка!E36)","v":""},{"$f":"IF(ISBLANK(Заявка!F36),\"\",Заявка!F36)","v":""},{"$f":"IF(ISBLANK(Заявка!B36),\"\",Заявка!$B$4)","v":""},{"$f":"IF(ISBLANK(Заявка!B36),\"\",Заявка!$C$6)","v":""},{"$f":"IF(ISBLANK(Заявка!B36),\"\",Заявка!$C$7)","v":""}]
[25,{"$f":"IF(ISBLANK(Заявка!B37),\"\",Заявка!B37)","v":""},{"$f":"IF(ISBLANK(Заявка!C37),\"\",Заявка!C37)","v":""},{"$f":"IF(ISBLANK(Заявка!D37),\"\",Заявка!D37)","v":""},{"$f":"IF(ISBLANK(Заявка!E37),\"\",Заявка!E37)","v":""},{"$f":"IF(ISBLANK(Заявка!F37),\"\",Заявка!F37)","v":""},{"$f":"IF(ISBLANK(Заявка!B37),\"\",Заявка!$B$4)","v":""},{"$f":"IF(ISBLANK(Заявка!B37),\"\",Заявка!$C$6)","v":""},{"$f":"IF(ISBLANK(Заявка!B37),\"\",Заявка!$C$7)","v":""}]
[26,{"$f":"IF(ISBLANK(Заявка!B38),\"\",Заявка!B38)","v":""},{"$f":"IF(ISBLANK(Заявка!C38),\"\",Заявка!C38)","v":""},{"$f":"IF(ISBLANK(Заявка!D38),\"\",Заявка!D38)","v":""},{"$f":"IF(ISBLANK(Заявка!E38),\"\",Заявка!E38)","v":""},{"$f":"IF(ISBLANK(Заявка!F38),\"\",Заявка!F38)","v":""},{"$f":"IF(ISBLANK(Заявка!B38),\"\",Заявка!$B$4)","v":""},{"$f":"IF(ISBLANK(Заявка!B38),\"\",Заявка!$C$6)","v":""},{"$f":"IF(ISBLANK(Заявка!B38),\"\",Заявка!$C$7)","v":""}]
[27,{"$f":"IF(ISBLANK(Заявка!B39),\"\",Заявка!B39)","v":""},{"$f":"IF(ISBLANK(Заявка!C39),\"\",Заявка!C39)","v":""},{"$f":"IF(ISBLANK(Заявка!D39),\"\",Заявка!D39)","v":""},{"$f":"IF(ISBLANK(Заявка!E39),\"\",Заявка!E39)","v":""},{"$f":"IF(ISBLANK(Заявка!F39),\"\",Заявка!F39)","v":""},{"$f":"IF(ISBLANK(Заявка!B39),\"\",Заявка!$B$4)","v":""},{"$f":"IF(ISBLANK(Заявка!B39),\"\",Заявка!$C$6)","v":""},{"$f":"IF(ISBLANK(Заявка!B39),\"\",Заявка!$C$7)","v":""}]
[28,{"$f":"IF(ISBLANK(Заявка!B40),\"\",Заявка!B40)","v":""},{"$f":"IF(ISBLANK(Заявка!C40),\"\",Заявка!C40)","v":""},{"$f":"IF(ISBLANK(Заявка!D40),\"\",Заявка!D40)","v":""},{"$f":"IF(ISBLANK(Заявка!E40),\"\",Заявка!E40)","v":""},{"$f":"IF(ISBLANK(Заявка!F40),\"\",Заявка!F40)","v":""},{"$f":"IF(ISBLANK(Заявка!B40),\"\",Заявка!$B$4)","v":""},{"$f":"IF(ISBLANK(Заявка!B40),\"\",Заявка!$C$6)","v":""},{"$f":"IF(ISBLANK(Заявка!B40),\"\",Заявка!$C$7)","v":""}]
[29,{"$f":"IF(ISBLANK(Заявка!B41),\"\",Заявка!B41)","v":""},{"$f":"IF(ISBLANK(Заявка!C41),\"\",Заявка!C41)","v":""},{"$f":"IF(ISBLANK(Заявка!D41),\"\",Заявка!D41)","v":""},{"$f":"IF(ISBLANK(Заявка!E41),\"\",Заявка!E41)","v":""},{"$f":"IF(ISBLANK(Заявка!F41),\"\",Заявка!F41)","v":""},{"$f":"IF(ISBLANK(Заявка!B41),\"\",Заявка!$B$4)","v":""},{"$f":"IF(ISBLANK(Заявка!B41),\"\",Заявка!$C$6)","v":""},{"$f":"IF(ISBLANK(Заявка!B41),\"\",Заявка!$C$7)","v":""}]
[30,{"$f":"IF(ISBLANK(Заявка!B42),\"\",Заявка!B42)","v":""},{"$f":"IF(ISBLANK(Заявка!C42),\"\",Заявка!C42)","v":""},{"$f":"IF(ISBLANK(Заявка!D42),\"\",Заявка!D42)","v":""},{"$f":"IF(ISBLANK(Заявка!E42),\"\",Заявка!E42)","v":""},{"$f":"IF(ISBLANK(Заявка!F42),\"\",Заявка!F42)","v":""},{"$f":"IF(ISBLANK(Заявка!B42),\"\",Заявка!$B$4)","v":""},{"$f":"IF(ISBLANK(Заявка!B42),\"\",Заявка!$C$6)","v":""},{"$f":"IF(ISBLANK(Заявка!B42),\"\",Заявка!$C$7)","v":""}]
[31,{"$f":"IF(ISBLANK(Заявка!B43),\"\",Заявка!B43)","v":""},{"$f":"IF(ISBLANK(Заявка!C43),\"\",Заявка!C43)","v":""},{"$f":"IF(ISBLANK(Заявка!D43),\"\",Заявка!D43)","v":""},{"$f":"IF(ISBLANK(Заявка!E43),\"\",Заявка!E43)","v":""},{"$f":"IF(ISBLANK(Заявка!F43),\"\",Заявка!F43)","v":""},{"$f":"IF(ISBLANK(Заявка!B43),\"\",Заявка!$B$4)","v":""},{"$f":"IF(ISBLANK(Заявка!B43),\"\",Заявка!$C$6)","v":""},{"$f":"IF(ISBLANK(Заявка!B43),\"\",Заявка!$C$7)","v":""}]
[32,{"$f":"IF(ISBLANK(Заявка!B44),\"\",Заявка!B44)","v":""},{"$f":"IF(ISBLANK(Заявка!C44),\"\",Заявка!C44)","v":""},{"$f":"IF(ISBLANK(Заявка!D44),\"\",Заявка!D44)","v":""},{"$f":"IF(ISBLANK(Заявка!E44),\"\",Заявка!E44)","v":""},{"$f":"IF(ISBLANK(Заявка!F44),\"\",Заявка!F44)","v":""},{"$f":"IF(ISBLANK(Заявка!B44),\"\",Заявка!$B$4)","v":""},{"$f":"IF(ISBLANK(Заявка!B44),\"\",Заявка!$C$6)","v":""},{"$f":"IF(ISBLANK(Заявка!B44),\"\",Заявка!$C$7)","v":""}]
[33,{"$f":"IF(ISBLANK(Заявка!B45),\"\",Заявка!B45)","v":""},{"$f":"IF(ISBLANK(Заявка!C45),\"\",Заявка!C45)","v":""},{"$f":"IF(ISBLANK(Заявка!D45),\"\",Заявка!D45)","v":""},{"$f":"IF(ISBLANK(Заявка!E45),\"\",Заявка!E45)","v":""},{"$f":"IF(ISBLANK(Заявка!F45),\"\",Заявка!F45)","v":""},{"$f":"IF(ISBLANK(Заявка!B45),\"\",Заявка!$B$4)","v":""},{"$f":"IF(ISBLANK(Заявка!B45),\"\",Заявка!$C$6)","v":""},{"$f":"IF(ISBLANK(Заявка!B45),\"\",Заявка!$C$7)","v":""}]
[34,{"$f":"IF(ISBLANK(Заявка!B46),\"\",Заявка!B46)","v":""},{"$f":"IF(ISBLANK(Заявка!C46),\"\",Заявка!C46)","v":""},{"$f":"IF(ISBLANK(Заявка!D46),\"\",Заявка!D46)","v":""},{"$f":"IF(ISBLANK(Заявка!E46),\"\",Заявка!E46)","v":""},{"$f":"IF(ISBLANK(Заявка!F46),\"\",Заявка!F46)","v":""},{"$f":"IF(ISBLANK(Заявка!B46),\"\",Заявка!$B$4)","v":""},{"$f":"IF(ISBLANK(Заявка!B46),\"\",Заявка!$C$6)","v":""},{"$f":"IF(ISBLANK(Заявка!B46),\"\",Заявка!$C$7)","v":""}]
[35,{"$f":"IF(ISBLANK(Заявка!B47),\"\",Заявка!B47)","v":""},{"$f":"IF(ISBLANK(Заявка!C47),\"\",Заявка!C47)","v":""},{"$f":"IF(ISBLANK(Заявка!D47),\"\",Заявка!D47)","v":""},{"$f":"IF(ISBLANK(Заявка!E47),\"\",Заявка!E47)","v":""},{"$f":"IF(ISBLANK(Заявка!F47),\"\",Заявка!F47)","v":""},{"$f":"IF(ISBLANK(Заявка!B47),\"\",Заявка!$B$4)","v":""},{"$f":"IF(ISBLANK(Заявка!B47),\"\",Заявка!$C$6)","v":""},{"$f":"IF(ISBLANK(Заявка!B47),\"\",Заявка!$C$7)","v":""}]
[36,{"$f":"IF(ISBLANK(Заявка!B48),\"\",Заявка!B48)","v":""},{"$f":"IF(ISBLANK(Заявка!C48),\"\",Заявка!C48)","v":""},{"$f":"IF(ISBLANK(Заявка!D48),\"\",Заявка!D48)","v":""},{"$f":"IF(ISBLANK(Заявка!E48),\"\",Заявка!E48)","v":""},{"$f":"IF(ISBLANK(Заявка!F48),\"\",Заявка!F48)","v":""},{"$f":"IF(ISBLANK(Заявка!B48),\"\",Заявка!$B$4)","v":""},{"$f":"IF(ISBLANK(Заявка!B48),\"\",Заявка!$C$6)","v":""},{"$f":"IF(ISBLANK(Заявка!B48),\"\",Заявка!$C$7)","v":""}]
[37,{"$f":"IF(ISBLANK(Заявка!B49),\"\",Заявка!B49)","v":""},{"$f":"IF(ISBLANK(Заявка!C49),\"\",Заявка!C49)","v":""},{"$f":"IF(ISBLANK(Заявка!D49),\"\",Заявка!D49)","v":""},{"$f":"IF(ISBLANK(Заявка!E49),\"\",Заявка!E49)","v":""},{"$f":"IF(ISBLANK(Заявка!F49),\"\",Заявка!F49)","v":""},{"$f":"IF(ISBLANK(Заявка!B49),\"\",Заявка!$B$4)","v":""},{"$f":"IF(ISBLANK(Заявка!B49),\"\",Заявка!$C$6)","v":""},{"$f":"IF(ISBLANK(Заявка!B49),\"\",Заявка!$C$7)","v":""}]
[null,{"$f":"IF(ISBLANK(Заявка!B50),\"\",Заявка!B50)","v":""},{"$f":"IF(ISBLANK(Заявка!C50),\"\",Заявка!C50)","v":""},{"$f":"IF(ISBLANK(Заявка!D50),\"\",Заявка!D50)","v":""},{"$f":"IF(ISBLANK(Заявка!E50),\"\",Заявка!E50)","v":""},{"$f":"IF(ISBLANK(Заявка!F50),\"\",Заявка!F50)","v":""},{"$f":"IF(ISBLANK(Заявка!B50),\"\",Заявка!$B$4)","v":""}]